BEGIN:VCALENDAR
VERSION:2.0
PRODID:-//jEvents 2.0 for Joomla//EN
CALSCALE:GREGORIAN
METHOD:PUBLISH
BEGIN:VEVENT
UID:163f365f371734baa28a1e14c0ec4799
CATEGORIES:JF Wollbach
CREATED:20250108T194802
SUMMARY:Übung mit JG Kandern
DESCRIPTION:
DTSTAMP:20260424T114345
DTSTART:20251022T163000
SEQUENCE:0
TRANSP:OPAQUE
END:VEVENT
END:VCALENDAR