BEGIN:VCALENDAR
VERSION:2.0
PRODID:-//jEvents 2.0 for Joomla//EN
CALSCALE:GREGORIAN
METHOD:PUBLISH
BEGIN:VEVENT
UID:7d09596f446c9d27c37bd938bfa69789
CATEGORIES:JF Wollbach
CREATED:20250108T194742
SUMMARY:Übung
DESCRIPTION:
DTSTAMP:20260422T161819
DTSTART:20251008T170000
SEQUENCE:0
TRANSP:OPAQUE
END:VEVENT
END:VCALENDAR