BEGIN:VCALENDAR
VERSION:2.0
PRODID:-//jEvents 2.0 for Joomla//EN
CALSCALE:GREGORIAN
METHOD:PUBLISH
BEGIN:VEVENT
UID:133a94a6df223de0f1567869ad8267d9
CATEGORIES:JF Wollbach
CREATED:20250108T194729
SUMMARY:Reblandeckübung
DESCRIPTION:
DTSTAMP:20260422T184638
DTSTART;VALUE=DATE:20251003
DTEND;VALUE=DATE:20251004
SEQUENCE:0
TRANSP:OPAQUE
END:VEVENT
END:VCALENDAR