BEGIN:VCALENDAR
VERSION:2.0
PRODID:-//jEvents 2.0 for Joomla//EN
CALSCALE:GREGORIAN
METHOD:PUBLISH
BEGIN:VEVENT
UID:927cd87813e19ab6b7dfef4fa2d68bb7
CATEGORIES:JF Wollbach
CREATED:20250108T194652
SUMMARY:Übung
DESCRIPTION:
DTSTAMP:20260424T130432
DTSTART:20250730T170000
SEQUENCE:0
TRANSP:OPAQUE
END:VEVENT
END:VCALENDAR