BEGIN:VCALENDAR
VERSION:2.0
PRODID:-//jEvents 2.0 for Joomla//EN
CALSCALE:GREGORIAN
METHOD:PUBLISH
BEGIN:VEVENT
UID:d20347375cd7fe6873949f7ea50ba1e1
CATEGORIES:Abt. Wollbach
CREATED:20250108T194639
SUMMARY:Jubiläum 100 Jahre
DESCRIPTION:
DTSTAMP:20260422T123656
DTSTART;VALUE=DATE:20250718
DTEND;VALUE=DATE:20250721
SEQUENCE:0
TRANSP:OPAQUE
END:VEVENT
END:VCALENDAR