BEGIN:VCALENDAR
VERSION:2.0
PRODID:-//jEvents 2.0 for Joomla//EN
CALSCALE:GREGORIAN
METHOD:PUBLISH
BEGIN:VEVENT
UID:a95904523edfbaf107d33bebe7c4c648
CATEGORIES:JF Wollbach
CREATED:20250108T194611
SUMMARY:Leistungsspange/Pokalwettkampf
DESCRIPTION:
DTSTAMP:20260424T121252
DTSTART;VALUE=DATE:20250719
DTEND;VALUE=DATE:20250720
SEQUENCE:0
TRANSP:OPAQUE
END:VEVENT
END:VCALENDAR