BEGIN:VCALENDAR
VERSION:2.0
PRODID:-//jEvents 2.0 for Joomla//EN
CALSCALE:GREGORIAN
METHOD:PUBLISH
BEGIN:VEVENT
UID:b0da0cedb23f1b97b9be71bfb0c04c32
CATEGORIES:JF Wollbach
CREATED:20250108T194536
SUMMARY:Übung
DESCRIPTION:
DTSTAMP:20260424T125704
DTSTART:20250709T170000
SEQUENCE:0
TRANSP:OPAQUE
END:VEVENT
END:VCALENDAR