BEGIN:VCALENDAR
VERSION:2.0
PRODID:-//jEvents 2.0 for Joomla//EN
CALSCALE:GREGORIAN
METHOD:PUBLISH
BEGIN:VEVENT
UID:a49cc0060a27cd654b9241c34afc18d4
CATEGORIES:JF Wollbach
CREATED:20250108T194524
SUMMARY:Übung
DESCRIPTION:
DTSTAMP:20260420T152826
DTSTART:20250625T170000
SEQUENCE:0
TRANSP:OPAQUE
END:VEVENT
END:VCALENDAR