BEGIN:VCALENDAR
VERSION:2.0
PRODID:-//jEvents 2.0 for Joomla//EN
CALSCALE:GREGORIAN
METHOD:PUBLISH
BEGIN:VEVENT
UID:ac97d20b5e0764ebca2c1c9f8d64fc9b
CATEGORIES:JF Wollbach
CREATED:20250108T194511
SUMMARY:Übung
DESCRIPTION:
DTSTAMP:20260420T092551
DTSTART:20250604T170000
SEQUENCE:0
TRANSP:OPAQUE
END:VEVENT
END:VCALENDAR