BEGIN:VCALENDAR
VERSION:2.0
PRODID:-//jEvents 2.0 for Joomla//EN
CALSCALE:GREGORIAN
METHOD:PUBLISH
BEGIN:VEVENT
UID:ff6c0b031d92c324624d67dd8d9fa87a
CATEGORIES:JF Wollbach
CREATED:20250108T194454
SUMMARY:Spiellauf Langenau
DESCRIPTION:
DTSTAMP:20260420T114622
DTSTART;VALUE=DATE:20250531
DTEND;VALUE=DATE:20250601
SEQUENCE:0
TRANSP:OPAQUE
END:VEVENT
END:VCALENDAR