BEGIN:VCALENDAR
VERSION:2.0
PRODID:-//jEvents 2.0 for Joomla//EN
CALSCALE:GREGORIAN
METHOD:PUBLISH
BEGIN:VEVENT
UID:f2d54b43ce91b7eba375c1e967ad4ba2
CATEGORIES:JF Wollbach
CREATED:20250108T194428
SUMMARY:Übung
DESCRIPTION:
DTSTAMP:20260420T181415
DTSTART:20250521T170000
SEQUENCE:0
TRANSP:OPAQUE
END:VEVENT
END:VCALENDAR