BEGIN:VCALENDAR
VERSION:2.0
PRODID:-//jEvents 2.0 for Joomla//EN
CALSCALE:GREGORIAN
METHOD:PUBLISH
BEGIN:VEVENT
UID:b8fbe723343e52f3e0084a4455cb0e8d
CATEGORIES:JF Wollbach
CREATED:20250108T194402
SUMMARY:Maischenke
DESCRIPTION:
DTSTAMP:20260420T144257
DTSTART;VALUE=DATE:20250501
DTEND;VALUE=DATE:20250502
SEQUENCE:0
TRANSP:OPAQUE
END:VEVENT
END:VCALENDAR