BEGIN:VCALENDAR
VERSION:2.0
PRODID:-//jEvents 2.0 for Joomla//EN
CALSCALE:GREGORIAN
METHOD:PUBLISH
BEGIN:VEVENT
UID:b33a8b0749775c580a195cdcf88f5052
CATEGORIES:JF Wollbach
CREATED:20250108T194343
SUMMARY:Übung
DESCRIPTION:
DTSTAMP:20260422T133425
DTSTART:20250409T170000
SEQUENCE:0
TRANSP:OPAQUE
END:VEVENT
END:VCALENDAR