BEGIN:VCALENDAR
VERSION:2.0
PRODID:-//jEvents 2.0 for Joomla//EN
CALSCALE:GREGORIAN
METHOD:PUBLISH
BEGIN:VEVENT
UID:9e2422a44c0bf3a5a454a91dadec1ea7
CATEGORIES:JF Wollbach
CREATED:20250108T194330
SUMMARY:Übung
DESCRIPTION:
DTSTAMP:20260422T172633
DTSTART:20250402T170000
SEQUENCE:0
TRANSP:OPAQUE
END:VEVENT
END:VCALENDAR