BEGIN:VCALENDAR
VERSION:2.0
PRODID:-//jEvents 2.0 for Joomla//EN
CALSCALE:GREGORIAN
METHOD:PUBLISH
BEGIN:VEVENT
UID:09c93f673aa9a853c87c91556612742b
CATEGORIES:JF Wollbach
CREATED:20250108T194310
SUMMARY:Schrottsammlung
DESCRIPTION:
DTSTAMP:20260420T135852
DTSTART:20250329T070000
SEQUENCE:0
TRANSP:OPAQUE
END:VEVENT
END:VCALENDAR