BEGIN:VCALENDAR
VERSION:2.0
PRODID:-//jEvents 2.0 for Joomla//EN
CALSCALE:GREGORIAN
METHOD:PUBLISH
BEGIN:VEVENT
UID:cf268d591ec7ddffee04b5e819d5bd86
CATEGORIES:JF Wollbach
CREATED:20250108T194251
SUMMARY:Übung
DESCRIPTION:
DTSTAMP:20260422T150017
DTSTART:20250326T180000
SEQUENCE:0
TRANSP:OPAQUE
END:VEVENT
END:VCALENDAR