BEGIN:VCALENDAR
VERSION:2.0
PRODID:-//jEvents 2.0 for Joomla//EN
CALSCALE:GREGORIAN
METHOD:PUBLISH
BEGIN:VEVENT
UID:52d451d74b9f9d2674926c29e6572370
CATEGORIES:JF Wollbach
CREATED:20250108T194233
SUMMARY:Scheibenverkauf
DESCRIPTION:
DTSTAMP:20260420T164158
DTSTART:20250309T090000
SEQUENCE:0
TRANSP:OPAQUE
END:VEVENT
END:VCALENDAR