BEGIN:VCALENDAR
VERSION:2.0
PRODID:-//jEvents 2.0 for Joomla//EN
CALSCALE:GREGORIAN
METHOD:PUBLISH
BEGIN:VEVENT
UID:c7a09b2963804d028c452e0162327222
CATEGORIES:JF Wollbach
CREATED:20250108T194216
SUMMARY:Scheibenverkauf
DESCRIPTION:
DTSTAMP:20260420T092055
DTSTART:20250302T090000
SEQUENCE:0
TRANSP:OPAQUE
END:VEVENT
END:VCALENDAR