BEGIN:VCALENDAR
VERSION:2.0
PRODID:-//jEvents 2.0 for Joomla//EN
CALSCALE:GREGORIAN
METHOD:PUBLISH
BEGIN:VEVENT
UID:a7e2ba90dd8d5dba57c285507dfaff80
CATEGORIES:JF Wollbach
CREATED:20250108T194156
SUMMARY:Übung
DESCRIPTION:
DTSTAMP:20260420T140329
DTSTART:20250226T180000
SEQUENCE:0
TRANSP:OPAQUE
END:VEVENT
END:VCALENDAR