BEGIN:VCALENDAR
VERSION:2.0
PRODID:-//jEvents 2.0 for Joomla//EN
CALSCALE:GREGORIAN
METHOD:PUBLISH
BEGIN:VEVENT
UID:94c0e34ceb8fd8cc1f392a3bebdf0bb4
CATEGORIES:JF Wollbach
CREATED:20250108T194145
SUMMARY:Übung
DESCRIPTION:
DTSTAMP:20260422T163327
DTSTART:20250219T180000
SEQUENCE:0
TRANSP:OPAQUE
END:VEVENT
END:VCALENDAR