BEGIN:VCALENDAR
VERSION:2.0
PRODID:-//jEvents 2.0 for Joomla//EN
CALSCALE:GREGORIAN
METHOD:PUBLISH
BEGIN:VEVENT
UID:d60d48567fd951dc64b953cae208cc84
CATEGORIES:JF Wollbach
CREATED:20250108T194133
SUMMARY:Übung
DESCRIPTION:
DTSTAMP:20260420T164208
DTSTART:20250212T180000
SEQUENCE:0
TRANSP:OPAQUE
END:VEVENT
END:VCALENDAR