BEGIN:VCALENDAR
VERSION:2.0
PRODID:-//jEvents 2.0 for Joomla//EN
CALSCALE:GREGORIAN
METHOD:PUBLISH
BEGIN:VEVENT
UID:8ff3c1be5bcd4e8a07636b549626b7c1
CATEGORIES:JF Wollbach
CREATED:20250108T194120
SUMMARY:Übung
DESCRIPTION:
DTSTAMP:20260422T082606
DTSTART:20250205T180000
SEQUENCE:0
TRANSP:OPAQUE
END:VEVENT
END:VCALENDAR