BEGIN:VCALENDAR
VERSION:2.0
PRODID:-//jEvents 2.0 for Joomla//EN
CALSCALE:GREGORIAN
METHOD:PUBLISH
BEGIN:VEVENT
UID:019089f3e8df5cea168263557ab96188
CATEGORIES:JF Wollbach
CREATED:20250108T194029
SUMMARY:Übung
DESCRIPTION:
DTSTAMP:20260420T152336
DTSTART:20250122T180000
SEQUENCE:0
TRANSP:OPAQUE
END:VEVENT
END:VCALENDAR