BEGIN:VCALENDAR
VERSION:2.0
PRODID:-//jEvents 2.0 for Joomla//EN
CALSCALE:GREGORIAN
METHOD:PUBLISH
BEGIN:VEVENT
UID:5f5a7f66821abef84712d51e7e541992
CATEGORIES:JF Wollbach
CREATED:20250108T194009
SUMMARY:Tannenbäume sammeln + gelbe Säcke
DESCRIPTION:
DTSTAMP:20260424T132255
DTSTART:20250111T064500
SEQUENCE:0
TRANSP:OPAQUE
END:VEVENT
END:VCALENDAR