BEGIN:VCALENDAR
VERSION:2.0
PRODID:-//jEvents 2.0 for Joomla//EN
CALSCALE:GREGORIAN
METHOD:PUBLISH
BEGIN:VEVENT
UID:668415244afa3024cfb0a3497c6df1e0
CATEGORIES:JF Wollbach
CREATED:20250108T193931
SUMMARY:Abteilungsversammlung
DESCRIPTION:
DTSTAMP:20260420T151116
DTSTART:20250105T170000
SEQUENCE:0
TRANSP:OPAQUE
END:VEVENT
END:VCALENDAR