BEGIN:VCALENDAR
VERSION:2.0
PRODID:-//jEvents 2.0 for Joomla//EN
CALSCALE:GREGORIAN
METHOD:PUBLISH
BEGIN:VEVENT
UID:907036edabbc4fcd3d80f0674e6c1313
CATEGORIES:Abt. Holzen
CREATED:20250106T124206
SUMMARY:Übung Gruppe 1+2
DESCRIPTION:
DTSTAMP:20260420T103917
DTSTART;VALUE=DATE:20251204
DTEND;VALUE=DATE:20251205
SEQUENCE:0
TRANSP:OPAQUE
END:VEVENT
END:VCALENDAR