BEGIN:VCALENDAR
VERSION:2.0
PRODID:-//jEvents 2.0 for Joomla//EN
CALSCALE:GREGORIAN
METHOD:PUBLISH
BEGIN:VEVENT
UID:5fcc304e0cb2349c318b5b83899e4a6b
CATEGORIES:Abt. Holzen
CREATED:20250106T124143
SUMMARY:Cego
DESCRIPTION:
DTSTAMP:20260420T172341
DTSTART;VALUE=DATE:20251121
DTEND;VALUE=DATE:20251122
SEQUENCE:0
TRANSP:OPAQUE
END:VEVENT
END:VCALENDAR