BEGIN:VCALENDAR
VERSION:2.0
PRODID:-//jEvents 2.0 for Joomla//EN
CALSCALE:GREGORIAN
METHOD:PUBLISH
BEGIN:VEVENT
UID:476da19c55c67efec9c30985d6f778bf
CATEGORIES:Abt. Holzen
CREATED:20250106T124123
SUMMARY:Übung Gruppe 1+2
DESCRIPTION:
DTSTAMP:20260424T112451
DTSTART;VALUE=DATE:20251120
DTEND;VALUE=DATE:20251121
SEQUENCE:0
TRANSP:OPAQUE
END:VEVENT
END:VCALENDAR