BEGIN:VCALENDAR
VERSION:2.0
PRODID:-//jEvents 2.0 for Joomla//EN
CALSCALE:GREGORIAN
METHOD:PUBLISH
BEGIN:VEVENT
UID:46d4b08ccd0dd23850f97e251cf4d05d
CATEGORIES:Abt. Holzen
CREATED:20250106T124043
SUMMARY:Übung Gruppe 1+2
DESCRIPTION:
DTSTAMP:20260422T143501
DTSTART;VALUE=DATE:20251106
DTEND;VALUE=DATE:20251107
SEQUENCE:0
TRANSP:OPAQUE
END:VEVENT
END:VCALENDAR