BEGIN:VCALENDAR
VERSION:2.0
PRODID:-//jEvents 2.0 for Joomla//EN
CALSCALE:GREGORIAN
METHOD:PUBLISH
BEGIN:VEVENT
UID:6283f770edf3e3e51c3cb75cb4ac03f2
CATEGORIES:Abt. Holzen
CREATED:20250106T124027
SUMMARY:Übung Gruppe 1+2
DESCRIPTION:
DTSTAMP:20260422T174744
DTSTART:20251023T170000
SEQUENCE:0
TRANSP:OPAQUE
END:VEVENT
END:VCALENDAR