BEGIN:VCALENDAR
VERSION:2.0
PRODID:-//jEvents 2.0 for Joomla//EN
CALSCALE:GREGORIAN
METHOD:PUBLISH
BEGIN:VEVENT
UID:947692521fd29ff2609255037e34691e
CATEGORIES:Abt. Holzen
CREATED:20250106T124015
SUMMARY:Maschinistenübung
DESCRIPTION:
DTSTAMP:20260424T135225
DTSTART;VALUE=DATE:20251017
DTEND;VALUE=DATE:20251018
SEQUENCE:0
TRANSP:OPAQUE
END:VEVENT
END:VCALENDAR