BEGIN:VCALENDAR
VERSION:2.0
PRODID:-//jEvents 2.0 for Joomla//EN
CALSCALE:GREGORIAN
METHOD:PUBLISH
BEGIN:VEVENT
UID:81f76d0ef3875909498e1b7e4306da0e
CATEGORIES:Abt. Holzen
CREATED:20250106T123838
SUMMARY:Übung Gruppe 1+2
DESCRIPTION:
DTSTAMP:20260420T184702
DTSTART;VALUE=DATE:20251002
DTEND;VALUE=DATE:20251003
SEQUENCE:0
TRANSP:OPAQUE
END:VEVENT
END:VCALENDAR