BEGIN:VCALENDAR
VERSION:2.0
PRODID:-//jEvents 2.0 for Joomla//EN
CALSCALE:GREGORIAN
METHOD:PUBLISH
BEGIN:VEVENT
UID:ccffa09cc58b752650f40471ce96da67
CATEGORIES:Abt. Holzen
CREATED:20250106T123818
SUMMARY:Arbeitseinsatz
DESCRIPTION:
DTSTAMP:20260422T172720
DTSTART;VALUE=DATE:20250927
DTEND;VALUE=DATE:20250928
SEQUENCE:0
TRANSP:OPAQUE
END:VEVENT
END:VCALENDAR