BEGIN:VCALENDAR
VERSION:2.0
PRODID:-//jEvents 2.0 for Joomla//EN
CALSCALE:GREGORIAN
METHOD:PUBLISH
BEGIN:VEVENT
UID:a25569b452ea9a8d02f34a9e9d737eec
CATEGORIES:Abt. Holzen
CREATED:20250106T123801
SUMMARY:Übung Gruppe 2
DESCRIPTION:
DTSTAMP:20260424T152456
DTSTART;VALUE=DATE:20250925
DTEND;VALUE=DATE:20250926
SEQUENCE:0
TRANSP:OPAQUE
END:VEVENT
END:VCALENDAR