BEGIN:VCALENDAR
VERSION:2.0
PRODID:-//jEvents 2.0 for Joomla//EN
CALSCALE:GREGORIAN
METHOD:PUBLISH
BEGIN:VEVENT
UID:a185229d7a0fbae5920ace2a17123605
CATEGORIES:Abt. Holzen
CREATED:20250106T123717
SUMMARY:Übung Gruppe 1+2
DESCRIPTION:
DTSTAMP:20260424T113342
DTSTART;VALUE=DATE:20250911
DTEND;VALUE=DATE:20250912
SEQUENCE:0
TRANSP:OPAQUE
END:VEVENT
END:VCALENDAR