BEGIN:VCALENDAR
VERSION:2.0
PRODID:-//jEvents 2.0 for Joomla//EN
CALSCALE:GREGORIAN
METHOD:PUBLISH
BEGIN:VEVENT
UID:b576d5b0553ce28433c9bb3cb368d801
CATEGORIES:Abt. Holzen
CREATED:20250106T123645
SUMMARY:Übung Gruppe 2
DESCRIPTION:
DTSTAMP:20260422T201152
DTSTART;VALUE=DATE:20250814
DTEND;VALUE=DATE:20250815
SEQUENCE:0
TRANSP:OPAQUE
END:VEVENT
END:VCALENDAR