BEGIN:VCALENDAR
VERSION:2.0
PRODID:-//jEvents 2.0 for Joomla//EN
CALSCALE:GREGORIAN
METHOD:PUBLISH
BEGIN:VEVENT
UID:eb8be3b9f842eb61c923168f0b52df92
CATEGORIES:Abt. Holzen
CREATED:20250106T123624
SUMMARY:Übung Gruppe 1+2
DESCRIPTION:
DTSTAMP:20260424T101102
DTSTART;VALUE=DATE:20250731
DTEND;VALUE=DATE:20250801
SEQUENCE:0
TRANSP:OPAQUE
END:VEVENT
END:VCALENDAR