BEGIN:VCALENDAR
VERSION:2.0
PRODID:-//jEvents 2.0 for Joomla//EN
CALSCALE:GREGORIAN
METHOD:PUBLISH
BEGIN:VEVENT
UID:2a4953b255297607de2e6810d7d399f5
CATEGORIES:Abt. Holzen
CREATED:20250106T123613
SUMMARY:Übung Gruppe 2
DESCRIPTION:
DTSTAMP:20260424T140040
DTSTART;VALUE=DATE:20250717
DTEND;VALUE=DATE:20250718
SEQUENCE:0
TRANSP:OPAQUE
END:VEVENT
END:VCALENDAR