BEGIN:VCALENDAR
VERSION:2.0
PRODID:-//jEvents 2.0 for Joomla//EN
CALSCALE:GREGORIAN
METHOD:PUBLISH
BEGIN:VEVENT
UID:85646e2178e2bf77d592bc1a7489223a
CATEGORIES:Abt. Holzen
CREATED:20250106T120135
SUMMARY:Übung Gruppe 1
DESCRIPTION:
DTSTAMP:20260424T140045
DTSTART;VALUE=DATE:20250703
DTEND;VALUE=DATE:20250704
SEQUENCE:0
TRANSP:OPAQUE
END:VEVENT
END:VCALENDAR