BEGIN:VCALENDAR
VERSION:2.0
PRODID:-//jEvents 2.0 for Joomla//EN
CALSCALE:GREGORIAN
METHOD:PUBLISH
BEGIN:VEVENT
UID:cc5e46e39d95f21f17b096cc423f123c
CATEGORIES:Abt. Holzen
CREATED:20250106T114123
SUMMARY:Übung Gruppe 2
DESCRIPTION:
DTSTAMP:20260424T134330
DTSTART;VALUE=DATE:20250605
DTEND;VALUE=DATE:20250606
SEQUENCE:0
TRANSP:OPAQUE
END:VEVENT
END:VCALENDAR