BEGIN:VCALENDAR
VERSION:2.0
PRODID:-//jEvents 2.0 for Joomla//EN
CALSCALE:GREGORIAN
METHOD:PUBLISH
BEGIN:VEVENT
UID:5dc4263887bd0383cb25edebb6c436b1
CATEGORIES:Abt. Holzen
CREATED:20250106T114059
SUMMARY:Maschinistenübung
DESCRIPTION:
DTSTAMP:20260422T141246
DTSTART;VALUE=DATE:20250524
DTEND;VALUE=DATE:20250525
SEQUENCE:0
TRANSP:OPAQUE
END:VEVENT
END:VCALENDAR