BEGIN:VCALENDAR
VERSION:2.0
PRODID:-//jEvents 2.0 for Joomla//EN
CALSCALE:GREGORIAN
METHOD:PUBLISH
BEGIN:VEVENT
UID:a500eebd138e050b2fb4debfe1dbf3a3
CATEGORIES:Abt. Holzen
CREATED:20250106T114024
SUMMARY:Übung Gruppe 1
DESCRIPTION:
DTSTAMP:20260424T135409
DTSTART;VALUE=DATE:20250522
DTEND;VALUE=DATE:20250523
SEQUENCE:0
TRANSP:OPAQUE
END:VEVENT
END:VCALENDAR