BEGIN:VCALENDAR
VERSION:2.0
PRODID:-//jEvents 2.0 for Joomla//EN
CALSCALE:GREGORIAN
METHOD:PUBLISH
BEGIN:VEVENT
UID:77658589fdfd5e3ef38f311c8cb0d81a
CATEGORIES:Abt. Holzen
CREATED:20250106T113942
SUMMARY:Übung Gruppe 1+2
DESCRIPTION:
DTSTAMP:20260422T114041
DTSTART;VALUE=DATE:20250508
DTEND;VALUE=DATE:20250509
SEQUENCE:0
TRANSP:OPAQUE
END:VEVENT
END:VCALENDAR