BEGIN:VCALENDAR
VERSION:2.0
PRODID:-//jEvents 2.0 for Joomla//EN
CALSCALE:GREGORIAN
METHOD:PUBLISH
BEGIN:VEVENT
UID:18eece7aaf3c28f6193366833c4b852a
CATEGORIES:Abt. Holzen
CREATED:20250106T113906
SUMMARY:Übung Gruppe 1
DESCRIPTION:
DTSTAMP:20260422T192842
DTSTART;VALUE=DATE:20250410
DTEND;VALUE=DATE:20250411
SEQUENCE:0
TRANSP:OPAQUE
END:VEVENT
END:VCALENDAR