BEGIN:VCALENDAR
VERSION:2.0
PRODID:-//jEvents 2.0 for Joomla//EN
CALSCALE:GREGORIAN
METHOD:PUBLISH
BEGIN:VEVENT
UID:f48fd5dff4631737a1952dff067fd969
CATEGORIES:Abt. Holzen
CREATED:20250106T113842
SUMMARY:Übung Gruppe 1+2
DESCRIPTION:
DTSTAMP:20260420T114221
DTSTART;VALUE=DATE:20250327
DTEND;VALUE=DATE:20250328
SEQUENCE:0
TRANSP:OPAQUE
END:VEVENT
END:VCALENDAR