BEGIN:VCALENDAR
VERSION:2.0
PRODID:-//jEvents 2.0 for Joomla//EN
CALSCALE:GREGORIAN
METHOD:PUBLISH
BEGIN:VEVENT
UID:414fcb0d535612ea2afcdea962cd8f47
CATEGORIES:Abt. Holzen
CREATED:20250106T113824
SUMMARY:Arbeitseinsatz
DESCRIPTION:
DTSTAMP:20260424T150357
DTSTART;VALUE=DATE:20250315
DTEND;VALUE=DATE:20250316
SEQUENCE:0
TRANSP:OPAQUE
END:VEVENT
END:VCALENDAR