BEGIN:VCALENDAR
VERSION:2.0
PRODID:-//jEvents 2.0 for Joomla//EN
CALSCALE:GREGORIAN
METHOD:PUBLISH
BEGIN:VEVENT
UID:61619a0ccb8b59edac6e71c64f96afcf
CATEGORIES:Abt. Holzen
CREATED:20250106T113739
SUMMARY:Schrottsammlung
DESCRIPTION:
DTSTAMP:20260424T180708
DTSTART;VALUE=DATE:20250301
DTEND;VALUE=DATE:20250302
SEQUENCE:0
TRANSP:OPAQUE
END:VEVENT
END:VCALENDAR