BEGIN:VCALENDAR
VERSION:2.0
PRODID:-//jEvents 2.0 for Joomla//EN
CALSCALE:GREGORIAN
METHOD:PUBLISH
BEGIN:VEVENT
UID:b4e1340ced906afc927b909ef0c2baee
CATEGORIES:Abt. Holzen
CREATED:20250106T113719
SUMMARY:Übung Gruppe 1
DESCRIPTION:
DTSTAMP:20260420T201328
DTSTART;VALUE=DATE:20250227
DTEND;VALUE=DATE:20250228
SEQUENCE:0
TRANSP:OPAQUE
END:VEVENT
END:VCALENDAR