BEGIN:VCALENDAR
VERSION:2.0
PRODID:-//jEvents 2.0 for Joomla//EN
CALSCALE:GREGORIAN
METHOD:PUBLISH
BEGIN:VEVENT
UID:89092c48538568c15000f86c2e5193cd
CATEGORIES:Abt. Holzen
CREATED:20250106T113648
SUMMARY:Abteilungsversammlung
DESCRIPTION:
DTSTAMP:20260424T165244
DTSTART;VALUE=DATE:20250201
DTEND;VALUE=DATE:20250202
SEQUENCE:0
TRANSP:OPAQUE
END:VEVENT
END:VCALENDAR