BEGIN:VCALENDAR
VERSION:2.0
PRODID:-//jEvents 2.0 for Joomla//EN
CALSCALE:GREGORIAN
METHOD:PUBLISH
BEGIN:VEVENT
UID:ee71caaa987329a09ddd1fade9493df9
CATEGORIES:Abt. Holzen
CREATED:20250106T113627
SUMMARY:Holzversteigerung
DESCRIPTION:
DTSTAMP:20260422T184725
DTSTART;VALUE=DATE:20250124
DTEND;VALUE=DATE:20250127
SEQUENCE:0
TRANSP:OPAQUE
END:VEVENT
END:VCALENDAR